BEGIN:VCALENDAR
PRODID:-//Google Inc//Google Calendar 70.9054//EN
VERSION:2.0
CALSCALE:GREGORIAN
METHOD:REQUEST
BEGIN:VEVENT
DTSTART:20131118T170000Z
DTEND:20131118T180000Z
DTSTAMP:20131115T102138Z
ORGANIZER;CN=antoine.sabotdurand@gmail.com:mailto:antoine.sabotdurand@gmail
 .com
UID:1BA29564-444D-4C5C-9A7D-746BD024755E
ATTENDEE;CUTYPE=INDIVIDUAL;ROLE=REQ-PARTICIPANT;PARTSTAT=ACCEPTED;RSVP=TRUE
 ;CN=Antoine Sabot-Durand;X-NUM-GUESTS=0:mailto:antoine.sabotdurand@gmail.co
 m
ATTENDEE;CUTYPE=INDIVIDUAL;ROLE=REQ-PARTICIPANT;PARTSTAT=NEEDS-ACTION;RSVP=
 TRUE;CN=cdi-dev@lists.jboss.org;X-NUM-GUESTS=0:mailto:cdi-dev@lists.jboss.o
 rg
X-GOOGLE-HANGOUT:https://plus.google.com/hangouts/_/calendar/YW50b2luZS5zYW
 JvdGR1cmFuZEBnbWFpbC5jb20._65142chp6kr38b9k6gq48b9k8cqk6b9p84rk8b9n6gr44h1g
 68q3ed9l8k
URL:http://cdi-spec.org
CREATED:20131115T040117Z
DESCRIPTION:Discussing about CDI 1.1.1 MR scope\nThe Google Hangout link fo
 r the meeting is\nhttps://plus.google.com/hangouts/_/calendar/YW50b2luZS5zY
 WJvdGR1cmFuZEBnbWFpbC5jb20._65142chp6kr38b9k6gq48b9k8cqk6b9p84rk8b9n6gr44h1
 g68q3ed9l8k\nAffichez votre événement sur la page http://www.google.com/cal
 endar/event?action=VIEW&eid=XzY1MTQyY2hwNmtyMzhiOWs2Z3E0OGI5azhjcWs2YjlwODR
 yazhiOW42Z3I0NGgxZzY4cTNlZDlsOGsgY2RpLWRldkBsaXN0cy5qYm9zcy5vcmc&tok=MjkjYW
 50b2luZS5zYWJvdGR1cmFuZEBnbWFpbC5jb21lYjI5OGZjYzZhNjkxM2ZlOTY3N2VkMTE0ZTM0M
 WVlODUxZTkwNmU5&ctz=Europe/Paris&hl=fr.\nAffichez votre événement sur la pa
 ge http://www.google.com/calendar/event?action=VIEW&eid=XzY1MTQyY2hwNmtyMzh
 iOWs2Z3E0OGI5azhjcWs2YjlwODRyazhiOW42Z3I0NGgxZzY4cTNlZDlsOGsgY2RpLWRldkBsaX
 N0cy5qYm9zcy5vcmc&tok=MjkjYW50b2luZS5zYWJvdGR1cmFuZEBnbWFpbC5jb21lYjI5OGZjY
 zZhNjkxM2ZlOTY3N2VkMTE0ZTM0MWVlODUxZTkwNmU5&ctz=Europe/Paris&hl=fr.
LAST-MODIFIED:20131115T102137Z
LOCATION:
SEQUENCE:12
STATUS:CONFIRMED
SUMMARY:CDI 1.1 EG meeting
TRANSP:OPAQUE
X-GOOGLE-HANGOUT:https://plus.google.com/hangouts/_/calendar/YW50b2luZS5zYW
 JvdGR1cmFuZEBnbWFpbC5jb20._65142chp6kr38b9k6gq48b9k8cqk6b9p84rk8b9n6gr44h1g
 68q3ed9l8k
X-GOOGLE-HANGOUT:https://plus.google.com/hangouts/_/calendar/YW50b2luZS5zYW
 JvdGR1cmFuZEBnbWFpbC5jb20._65142chp6kr38b9k6gq48b9k8cqk6b9p84rk8b9n6gr44h1g
 68q3ed9l8k
X-GOOGLE-HANGOUT:https://plus.google.com/hangouts/_/calendar/YW50b2luZS5zYW
 JvdGR1cmFuZEBnbWFpbC5jb20._65142chp6kr38b9k6gq48b9k8cqk6b9p84rk8b9n6gr44h1g
 68q3ed9l8k
X-GOOGLE-HANGOUT:https://plus.google.com/hangouts/_/calendar/YW50b2luZS5zYW
 JvdGR1cmFuZEBnbWFpbC5jb20._65142chp6kr38b9k6gq48b9k8cqk6b9p84rk8b9n6gr44h1g
 68q3ed9l8k
X-GOOGLE-HANGOUT:https://plus.google.com/hangouts/_/calendar/YW50b2luZS5zYW
 JvdGR1cmFuZEBnbWFpbC5jb20._65142chp6kr38b9k6gq48b9k8cqk6b9p84rk8b9n6gr44h1g
 68q3ed9l8k
X-GOOGLE-HANGOUT:https://plus.google.com/hangouts/_/calendar/YW50b2luZS5zYW
 JvdGR1cmFuZEBnbWFpbC5jb20._65142chp6kr38b9k6gq48b9k8cqk6b9p84rk8b9n6gr44h1g
 68q3ed9l8k
X-GOOGLE-HANGOUT:https://plus.google.com/hangouts/_/calend
END:VEVENT
END:VCALENDAR
