BEGIN:VCALENDAR
PRODID:-//Google Inc//Google Calendar 70.9054//EN
VERSION:2.0
CALSCALE:GREGORIAN
METHOD:REQUEST
BEGIN:VTIMEZONE
TZID:Europe/Paris
X-LIC-LOCATION:Europe/Paris
BEGIN:DAYLIGHT
TZOFFSETFROM:+0100
TZOFFSETTO:+0200
TZNAME:CEST
DTSTART:19700329T020000
RRULE:FREQ=YEARLY;BYMONTH=3;BYDAY=-1SU
END:DAYLIGHT
BEGIN:STANDARD
TZOFFSETFROM:+0200
TZOFFSETTO:+0100
TZNAME:CET
DTSTART:19701025T030000
RRULE:FREQ=YEARLY;BYMONTH=10;BYDAY=-1SU
END:STANDARD
END:VTIMEZONE
BEGIN:VEVENT
DTSTART;TZID=Europe/Paris:20140910T180000
DTEND;TZID=Europe/Paris:20140910T190000
RRULE:FREQ=WEEKLY;BYDAY=WE
DTSTAMP:20140909T074814Z
ORGANIZER;CN=Antoine Sabot-Durand:mailto:antoine@sabot-durand.net
UID:bgauump7g68e3pmsovfto1jdqk@google.com
ATTENDEE;CUTYPE=INDIVIDUAL;ROLE=REQ-PARTICIPANT;PARTSTAT=NEEDS-ACTION;RSVP=
 TRUE;CN=cdi-dev@lists.jboss.org;X-NUM-GUESTS=0:mailto:cdi-dev@lists.jboss.o
 rg
ATTENDEE;CUTYPE=INDIVIDUAL;ROLE=REQ-PARTICIPANT;PARTSTAT=ACCEPTED;RSVP=TRUE
 ;CN=Antoine Sabot-Durand;X-NUM-GUESTS=0:mailto:antoine@sabot-durand.net
CREATED:20140909T073707Z
DESCRIPTION:View your event at https://www.google.com/calendar/event?action
 =VIEW&eid=YmdhdXVtcDdnNjhlM3Btc292ZnRvMWpkcWsgY2RpLWRldkBsaXN0cy5qYm9zcy5vc
 mc&tok=MjQjYW50b2luZUBzYWJvdC1kdXJhbmQubmV0ZGU3ZDQwYmRmMTA4MDY2YzgyOTQ0ZGIw
 MzIyMjM4NzM3MGE3ZGU1OQ&ctz=Europe/Paris&hl=en_GB.\nView your event at https
 ://www.google.com/calendar/event?action=VIEW&eid=YmdhdXVtcDdnNjhlM3Btc292Zn
 RvMWpkcWsgY2RpLWRldkBsaXN0cy5qYm9zcy5vcmc&tok=MjQjYW50b2luZUBzYWJvdC1kdXJhb
 mQubmV0ZGU3ZDQwYmRmMTA4MDY2YzgyOTQ0ZGIwMzIyMjM4NzM3MGE3ZGU1OQ&ctz=Europe/Pa
 ris&hl=en_GB.\nView your event at https://www.google.com/calendar/event?act
 ion=VIEW&eid=YmdhdXVtcDdnNjhlM3Btc292ZnRvMWpkcWsgY2RpLWRldkBsaXN0cy5qYm9zcy
 5vcmc&tok=MjQjYW50b2luZUBzYWJvdC1kdXJhbmQubmV0ZGU3ZDQwYmRmMTA4MDY2YzgyOTQ0Z
 GIwMzIyMjM4NzM3MGE3ZGU1OQ&ctz=Europe/Paris&hl=en_GB.\nView your event at ht
 tps://www.google.com/calendar/event?action=VIEW&eid=YmdhdXVtcDdnNjhlM3Btc29
 2ZnRvMWpkcWsgY2RpLWRldkBsaXN0cy5qYm9zcy5vcmc&tok=MjQjYW50b2luZUBzYWJvdC1kdX
 JhbmQubmV0ZGU3ZDQwYmRmMTA4MDY2YzgyOTQ0ZGIwMzIyMjM4NzM3MGE3ZGU1OQ&ctz=Europe
 /Paris&hl=en_GB.
LAST-MODIFIED:20140909T074814Z
LOCATION:IRC #cdi-dev channel on freenode
SEQUENCE:4
STATUS:CONFIRMED
SUMMARY:CDI weekly meeting
TRANSP:OPAQUE
END:VEVENT
END:VCALENDAR
